BEGIN:VCALENDAR
VERSION:2.0
PRODID:-//wp-events-plugin.com//7.2.3.1//EN
TZID:America/Denver
X-WR-TIMEZONE:America/Denver
BEGIN:VEVENT
UID:8271@mountaince.com
DTSTART;TZID=America/Phoenix:20260714T080000
DTEND;TZID=America/Phoenix:20260715T160000
DTSTAMP:20260408T224801Z
URL:https://www.mountaince.com/events/arizona-producers-exam-for-life-13-3
 1-20260714080000/
SUMMARY:Arizona Producer's Exam for Life (13-31)
DESCRIPTION:
CATEGORIES:arizona
END:VEVENT
BEGIN:VTIMEZONE
TZID:America/Phoenix
X-LIC-LOCATION:America/Phoenix
BEGIN:STANDARD
DTSTART:20250714T080000
TZOFFSETFROM:-0700
TZOFFSETTO:-0700
TZNAME:MST
END:STANDARD
END:VTIMEZONE
END:VCALENDAR