BEGIN:VCALENDAR
VERSION:2.0
PRODID:-//wp-events-plugin.com//7.2.3.1//EN
TZID:America/Denver
X-WR-TIMEZONE:America/Denver
BEGIN:VEVENT
UID:8250@mountaince.com
DTSTART;TZID=America/Phoenix:20260707T080000
DTEND;TZID=America/Phoenix:20260710T160000
DTSTAMP:20260408T224800Z
URL:https://www.mountaince.com/events/arizona-producers-exam-for-property-
 casualty-13-34-20260707080000/
SUMMARY:Arizona Producer's Exam for Property & Casualty (13-34)
DESCRIPTION:
CATEGORIES:arizona
END:VEVENT
BEGIN:VTIMEZONE
TZID:America/Phoenix
X-LIC-LOCATION:America/Phoenix
BEGIN:STANDARD
DTSTART:20250707T080000
TZOFFSETFROM:-0700
TZOFFSETTO:-0700
TZNAME:MST
END:STANDARD
END:VTIMEZONE
END:VCALENDAR