BEGIN:VCALENDAR
VERSION:2.0
PRODID:-//wp-events-plugin.com//7.2.3.1//EN
TZID:America/Denver
X-WR-TIMEZONE:America/Denver
BEGIN:VEVENT
UID:7860@mountaince.com
DTSTART;TZID=America/Denver:20260710T130000
DTEND;TZID=America/Denver:20260710T160000
DTSTAMP:20260408T011439Z
URL:https://www.mountaince.com/events/commercial-insurance-ce-webinar-ut-2
 0260710130000/
SUMMARY:Commercial Insurance (CE Webinar UT)
DESCRIPTION:
CATEGORIES:utah
END:VEVENT
BEGIN:VTIMEZONE
TZID:America/Denver
X-LIC-LOCATION:America/Denver
BEGIN:DAYLIGHT
DTSTART:20260308T030000
TZOFFSETFROM:-0700
TZOFFSETTO:-0600
TZNAME:MDT
END:DAYLIGHT
END:VTIMEZONE
END:VCALENDAR