BEGIN:VCALENDAR
VERSION:2.0
PRODID:-//wp-events-plugin.com//7.2.3.1//EN
TZID:America/Denver
X-WR-TIMEZONE:America/Denver
BEGIN:VEVENT
UID:7950@mountaince.com
DTSTART;TZID=America/Phoenix:20260714T080000
DTEND;TZID=America/Phoenix:20260714T110000
DTSTAMP:20260408T011445Z
URL:https://www.mountaince.com/events/ethics-insurance-regulations-ce-webi
 nar-az-20260714080000/
SUMMARY:Ethics & Insurance Regulations (CE Webinar AZ)
DESCRIPTION:
CATEGORIES:arizona
END:VEVENT
BEGIN:VTIMEZONE
TZID:America/Phoenix
X-LIC-LOCATION:America/Phoenix
BEGIN:STANDARD
DTSTART:20250714T080000
TZOFFSETFROM:-0700
TZOFFSETTO:-0700
TZNAME:MST
END:STANDARD
END:VTIMEZONE
END:VCALENDAR