BEGIN:VCALENDAR
VERSION:2.0
PRODID:-//wp-events-plugin.com//7.2.3.1//EN
TZID:America/Denver
X-WR-TIMEZONE:America/Denver
BEGIN:VEVENT
UID:7584@mountaince.com
DTSTART;TZID=America/Phoenix:20260424T080000
DTEND;TZID=America/Phoenix:20260424T110000
DTSTAMP:20260204T025717Z
URL:https://www.mountaince.com/events/health-disability-insurance-ce-webin
 ar-az-20260424080000/
SUMMARY:Health & Disability Insurance (CE Webinar AZ)
DESCRIPTION:
CATEGORIES:arizona
END:VEVENT
BEGIN:VTIMEZONE
TZID:America/Phoenix
X-LIC-LOCATION:America/Phoenix
BEGIN:STANDARD
DTSTART:20250424T080000
TZOFFSETFROM:-0700
TZOFFSETTO:-0700
TZNAME:MST
END:STANDARD
END:VTIMEZONE
END:VCALENDAR