BEGIN:VCALENDAR
VERSION:2.0
PRODID:-//wp-events-plugin.com//7.2.3.1//EN
TZID:America/Denver
X-WR-TIMEZONE:America/Denver
BEGIN:VEVENT
UID:1820@mountaince.com
DTSTART;TZID=America/Denver:20230120T130000
DTEND;TZID=America/Denver:20230120T160000
DTSTAMP:20230119T202054Z
URL:https://www.mountaince.com/events/individual-group-medical-plans-7/
SUMMARY:Individual & Group Medical Plans (CE Webinar)
DESCRIPTION:
CATEGORIES:ce-webinar,utah
END:VEVENT
BEGIN:VTIMEZONE
TZID:America/Denver
X-LIC-LOCATION:America/Denver
BEGIN:STANDARD
DTSTART:20221106T010000
TZOFFSETFROM:-0600
TZOFFSETTO:-0700
TZNAME:MST
END:STANDARD
END:VTIMEZONE
END:VCALENDAR