BEGIN:VCALENDAR
VERSION:2.0
PRODID:-//wp-events-plugin.com//7.2.3.1//EN
TZID:America/Denver
X-WR-TIMEZONE:America/Denver
BEGIN:VEVENT
UID:7713@mountaince.com
DTSTART;TZID=America/Phoenix:20260515T120000
DTEND;TZID=America/Phoenix:20260515T150000
DTSTAMP:20260408T011431Z
URL:https://www.mountaince.com/events/individual-group-medical-plans-ce-we
 binar-az-20260515120000/
SUMMARY:Individual & Group Medical Plans (CE Webinar AZ)
DESCRIPTION:
CATEGORIES:arizona
END:VEVENT
BEGIN:VTIMEZONE
TZID:America/Phoenix
X-LIC-LOCATION:America/Phoenix
BEGIN:STANDARD
DTSTART:20250515T120000
TZOFFSETFROM:-0700
TZOFFSETTO:-0700
TZNAME:MST
END:STANDARD
END:VTIMEZONE
END:VCALENDAR