BEGIN:VCALENDAR
VERSION:2.0
PRODID:-//wp-events-plugin.com//7.2.3.1//EN
TZID:America/Denver
X-WR-TIMEZONE:America/Denver
BEGIN:VEVENT
UID:8178@mountaince.com
DTSTART;TZID=America/Denver:20260619T130000
DTEND;TZID=America/Denver:20260619T160000
DTSTAMP:20260408T133426Z
URL:https://www.mountaince.com/events/individual-group-medical-plans-ce-we
 binar-id-20260619130000/
SUMMARY:Individual & Group Medical Plans (CE Webinar ID)
DESCRIPTION:
CATEGORIES:idaho
END:VEVENT
BEGIN:VTIMEZONE
TZID:America/Denver
X-LIC-LOCATION:America/Denver
BEGIN:DAYLIGHT
DTSTART:20260308T030000
TZOFFSETFROM:-0700
TZOFFSETTO:-0600
TZNAME:MDT
END:DAYLIGHT
END:VTIMEZONE
END:VCALENDAR