BEGIN:VCALENDAR
VERSION:2.0
PRODID:-//wp-events-plugin.com//7.2.3.1//EN
TZID:America/Denver
X-WR-TIMEZONE:America/Denver
BEGIN:VEVENT
UID:7644@mountaince.com
DTSTART;TZID=America/Phoenix:20260506T130000
DTEND;TZID=America/Phoenix:20260506T160000
DTSTAMP:20260408T011428Z
URL:https://www.mountaince.com/events/liability-auto-insurance-ce-webinar-
 az-20260506130000/
SUMMARY:Liability & Auto Insurance (CE Webinar AZ)
DESCRIPTION:
CATEGORIES:arizona
END:VEVENT
BEGIN:VTIMEZONE
TZID:America/Phoenix
X-LIC-LOCATION:America/Phoenix
BEGIN:STANDARD
DTSTART:20250506T130000
TZOFFSETFROM:-0700
TZOFFSETTO:-0700
TZNAME:MST
END:STANDARD
END:VTIMEZONE
END:VCALENDAR