BEGIN:VCALENDAR
VERSION:2.0
PRODID:-//wp-events-plugin.com//7.2.3.1//EN
TZID:America/Denver
X-WR-TIMEZONE:America/Denver
BEGIN:VEVENT
UID:7623@mountaince.com
DTSTART;TZID=America/Denver:20260506T140000
DTEND;TZID=America/Denver:20260506T170000
DTSTAMP:20260408T011427Z
URL:https://www.mountaince.com/events/liability-auto-insurance-ce-webinar-
 id-20260506140000/
SUMMARY:Liability & Auto Insurance (CE Webinar ID)
DESCRIPTION:
CATEGORIES:idaho
END:VEVENT
BEGIN:VTIMEZONE
TZID:America/Denver
X-LIC-LOCATION:America/Denver
BEGIN:DAYLIGHT
DTSTART:20260308T030000
TZOFFSETFROM:-0700
TZOFFSETTO:-0600
TZNAME:MDT
END:DAYLIGHT
END:VTIMEZONE
END:VCALENDAR