BEGIN:VCALENDAR
VERSION:2.0
PRODID:-//wp-events-plugin.com//7.2.3.1//EN
TZID:America/Denver
X-WR-TIMEZONE:America/Denver
BEGIN:VEVENT
UID:7578@mountaince.com
DTSTART;TZID=America/Phoenix:20260422T120000
DTEND;TZID=America/Phoenix:20260422T150000
DTSTAMP:20260204T025716Z
URL:https://www.mountaince.com/events/life-insurance-advanced-topics-ce-we
 binar-az-20260422120000/
SUMMARY:Life Insurance Advanced Topics (CE Webinar AZ)
DESCRIPTION:
CATEGORIES:arizona
END:VEVENT
BEGIN:VTIMEZONE
TZID:America/Phoenix
X-LIC-LOCATION:America/Phoenix
BEGIN:STANDARD
DTSTART:20250422T120000
TZOFFSETFROM:-0700
TZOFFSETTO:-0700
TZNAME:MST
END:STANDARD
END:VTIMEZONE
END:VCALENDAR