BEGIN:VCALENDAR
VERSION:2.0
PRODID:-//wp-events-plugin.com//7.2.3.1//EN
TZID:America/Denver
X-WR-TIMEZONE:America/Denver
BEGIN:VEVENT
UID:7953@mountaince.com
DTSTART;TZID=America/Phoenix:20260715T080000
DTEND;TZID=America/Phoenix:20260715T110000
DTSTAMP:20260408T011445Z
URL:https://www.mountaince.com/events/life-insurance-basics-ce-webinar-az-
 20260715080000/
SUMMARY:Life Insurance Basics (CE Webinar AZ)
DESCRIPTION:
CATEGORIES:arizona
END:VEVENT
BEGIN:VTIMEZONE
TZID:America/Phoenix
X-LIC-LOCATION:America/Phoenix
BEGIN:STANDARD
DTSTART:20250715T080000
TZOFFSETFROM:-0700
TZOFFSETTO:-0700
TZNAME:MST
END:STANDARD
END:VTIMEZONE
END:VCALENDAR