BEGIN:VCALENDAR
VERSION:2.0
PRODID:-//wp-events-plugin.com//7.2.3.1//EN
TZID:America/Denver
X-WR-TIMEZONE:America/Denver
BEGIN:VEVENT
UID:8202@mountaince.com
DTSTART;TZID=America/Phoenix:20260619T150000
DTEND;TZID=America/Phoenix:20260619T160000
DTSTAMP:20260408T133427Z
URL:https://www.mountaince.com/events/medicare-long-term-care-ce-webinar-a
 z-20260619150000/
SUMMARY:Medicare & Long-Term Care (CE Webinar AZ)
DESCRIPTION:
CATEGORIES:arizona
END:VEVENT
BEGIN:VTIMEZONE
TZID:America/Phoenix
X-LIC-LOCATION:America/Phoenix
BEGIN:STANDARD
DTSTART:20250619T150000
TZOFFSETFROM:-0700
TZOFFSETTO:-0700
TZNAME:MST
END:STANDARD
END:VTIMEZONE
END:VCALENDAR