BEGIN:VCALENDAR
VERSION:2.0
PRODID:-//wp-events-plugin.com//7.2.3.1//EN
TZID:America/Denver
X-WR-TIMEZONE:America/Denver
BEGIN:VEVENT
UID:8160@mountaince.com
DTSTART;TZID=America/Denver:20260619T160000
DTEND;TZID=America/Denver:20260619T170000
DTSTAMP:20260408T133425Z
URL:https://www.mountaince.com/events/medicare-long-term-care-ce-webinar-u
 t-20260619160000/
SUMMARY:Medicare & Long-Term Care (CE Webinar UT)
DESCRIPTION:
CATEGORIES:utah
END:VEVENT
BEGIN:VTIMEZONE
TZID:America/Denver
X-LIC-LOCATION:America/Denver
BEGIN:DAYLIGHT
DTSTART:20260308T030000
TZOFFSETFROM:-0700
TZOFFSETTO:-0600
TZNAME:MDT
END:DAYLIGHT
END:VTIMEZONE
END:VCALENDAR