BEGIN:VCALENDAR
VERSION:2.0
PRODID:-//wp-events-plugin.com//7.2.3.1//EN
TZID:America/Denver
X-WR-TIMEZONE:America/Denver
BEGIN:VEVENT
UID:7893@mountaince.com
DTSTART;TZID=America/Phoenix:20260708T120000
DTEND;TZID=America/Phoenix:20260708T130000
DTSTAMP:20260408T011441Z
URL:https://www.mountaince.com/events/pc-basics-part-2-ce-webinar-az-20260
 708120000/
SUMMARY:P&C Basics Part 2 (CE Webinar AZ)
DESCRIPTION:
CATEGORIES:arizona
END:VEVENT
BEGIN:VTIMEZONE
TZID:America/Phoenix
X-LIC-LOCATION:America/Phoenix
BEGIN:STANDARD
DTSTART:20250708T120000
TZOFFSETFROM:-0700
TZOFFSETTO:-0700
TZNAME:MST
END:STANDARD
END:VTIMEZONE
END:VCALENDAR