BEGIN:VCALENDAR
VERSION:2.0
PRODID:-//wp-events-plugin.com//7.2.3.1//EN
TZID:America/Denver
X-WR-TIMEZONE:America/Denver
BEGIN:VEVENT
UID:7599@mountaince.com
DTSTART;TZID=America/Denver:20260506T130000
DTEND;TZID=America/Denver:20260506T140000
DTSTAMP:20260408T011426Z
URL:https://www.mountaince.com/events/pc-basics-part-2-ce-webinar-ut-20260
 506130000/
SUMMARY:P&C Basics Part 2 (CE Webinar UT)
DESCRIPTION:
CATEGORIES:utah
END:VEVENT
BEGIN:VTIMEZONE
TZID:America/Denver
X-LIC-LOCATION:America/Denver
BEGIN:DAYLIGHT
DTSTART:20260308T030000
TZOFFSETFROM:-0700
TZOFFSETTO:-0600
TZNAME:MDT
END:DAYLIGHT
END:VTIMEZONE
END:VCALENDAR