BEGIN:VCALENDAR
VERSION:2.0
PRODID:-//wp-events-plugin.com//7.2.3.1//EN
TZID:America/Denver
X-WR-TIMEZONE:America/Denver
BEGIN:VEVENT
UID:324@mountaince.com
DTSTART:20200824T093000Z
DTEND:20200827T170000Z
DTSTAMP:20200620T034023Z
URL:https://www.mountaince.com/events/producers-combined-life-accident-and
 -health-exam-4/
SUMMARY:Producer's Combined Life\, Accident and Health Exam
DESCRIPTION:
END:VEVENT
END:VCALENDAR