BEGIN:VCALENDAR
VERSION:2.0
PRODID:-//wp-events-plugin.com//7.2.3.1//EN
TZID:America/Denver
X-WR-TIMEZONE:America/Denver
BEGIN:VEVENT
UID:8289@mountaince.com
DTSTART;TZID=America/Denver:20260714T090000
DTEND;TZID=America/Denver:20260717T170000
DTSTAMP:20260408T224802Z
URL:https://www.mountaince.com/events/utah-accident-health-producer-exam-1
 7-02-20260714090000/
SUMMARY:Utah Accident/Health Producer Exam (17-02)
DESCRIPTION:
CATEGORIES:utah
END:VEVENT
BEGIN:VTIMEZONE
TZID:America/Denver
X-LIC-LOCATION:America/Denver
BEGIN:DAYLIGHT
DTSTART:20260308T030000
TZOFFSETFROM:-0700
TZOFFSETTO:-0600
TZNAME:MDT
END:DAYLIGHT
END:VTIMEZONE
END:VCALENDAR