BEGIN:VCALENDAR
VERSION:2.0
PRODID:-//wp-events-plugin.com//7.2.3.1//EN
TZID:America/Denver
X-WR-TIMEZONE:America/Denver
BEGIN:VEVENT
UID:8268@mountaince.com
DTSTART;TZID=America/Denver:20260707T090000
DTEND;TZID=America/Denver:20260710T170000
DTSTAMP:20260408T224801Z
URL:https://www.mountaince.com/events/utah-adjuster-property-casualty-exam
 -17-11-20260707090000/
SUMMARY:Utah Adjuster Property & Casualty Exam (17-11)
DESCRIPTION:
CATEGORIES:utah
END:VEVENT
BEGIN:VTIMEZONE
TZID:America/Denver
X-LIC-LOCATION:America/Denver
BEGIN:DAYLIGHT
DTSTART:20260308T030000
TZOFFSETFROM:-0700
TZOFFSETTO:-0600
TZNAME:MDT
END:DAYLIGHT
END:VTIMEZONE
END:VCALENDAR