BEGIN:VCALENDAR
VERSION:2.0
PRODID:-//wp-events-plugin.com//7.2.3.1//EN
TZID:America/Denver
X-WR-TIMEZONE:America/Denver
BEGIN:VEVENT
UID:8286@mountaince.com
DTSTART;TZID=America/Denver:20260714T090000
DTEND;TZID=America/Denver:20260715T170000
DTSTAMP:20260408T224802Z
URL:https://www.mountaince.com/events/utah-life-producer-exam-17-01-202607
 14090000/
SUMMARY:Utah Life Producer Exam (17-01)
DESCRIPTION:
CATEGORIES:utah
END:VEVENT
BEGIN:VTIMEZONE
TZID:America/Denver
X-LIC-LOCATION:America/Denver
BEGIN:DAYLIGHT
DTSTART:20260308T030000
TZOFFSETFROM:-0700
TZOFFSETTO:-0600
TZNAME:MDT
END:DAYLIGHT
END:VTIMEZONE
END:VCALENDAR